Workbook

Sheet Valores_correntes
A1: Gastos primários do Governo Geral, em R$ bilhões correntes
B2: Governo Central Orçamentário | H2: Governos Estaduais | N2: Governos Municipais | T2: Governo Geral
B3: Remuneração de empregados (incluindo contribuições sociais efetivas) | C3: Benefícios previdenciários RGPS/INSS e assistenciais | D3: RPPS | E3: Investimentos brutos | F3: Outros (uso de bens e serviços, subsídios e outros) | G3: TOTAL | H3: Remuneração de empregados (incluindo contribuições sociais efetivas) | I3: Benefícios previdenciários RGPS/INSS e assistenciais | J3: RPPS | K3: Investimentos brutos | L3: Outros (uso de bens e serviços, subsídios e outros) | M3: TOTAL | N3: Remuneração de empregados (incluindo contribuições sociais efetivas) | O3: Benefícios previdenciários RGPS/INSS e assistenciais | P3: RPPS | Q3: Investimentos brutos | R3: Outros (uso de bens e serviços, subsídios e outros) | S3: TOTAL | T3: Remuneração de empregados (incluindo contribuições sociais efetivas) | U3: Benefícios previdenciários RGPS/INSS e assistenciais | V3: RPPS | W3: Investimentos brutos | X3: Outros (uso de bens e serviços, subsídios, outros e transferências) | Y3: TOTAL
A4: 1T06 | B4: 16.300917 | C4: 43.779701 | D4: 10.129821 | E4: 2.7372852 | F4: 5.3786873 | G4: =SUM(B4:F4) -> 78.326411 | H4: 25.673345 | I4: 0.14123626 | J4: 11.460715 | K4: 2.7676993 | L4: 11.35643 | M4: =SUM(H4:L4) -> 51.399426
A5: 2T06 | B5: 14.748631 | C5: 45.442952 | D5: 11.910072 | E5: 1.7592038 | F5: 6.9123629 | G5: =SUM(B5:F5) -> 80.773222 | H5: 25.124854 | I5: 0.1554148 | J5: 11.321355 | K5: 4.1722091 | L5: 14.408838 | M5: =SUM(H5:L5) -> 55.182671
A6: 3T06 | B6: 15.26619 | C6: 54.779325 | D6: 11.228633 | E6: 1.9372614 | F6: 8.5314925 | G6: =SUM(B6:F6) -> 91.742901 | H6: 25.635782 | I6: 0.1815045 | J6: 11.455117 | K6: 4.6105628 | L6: 15.296012 | M6: =SUM(H6:L6) -> 57.178977
A7: 4T06 | B7: 21.468102 | C7: 56.400149 | D7: 13.79191 | E7: 9.8533544 | F7: 20.971075 | G7: =SUM(B7:F7) -> 122.48459 | H7: 29.051981 | I7: 0.20696507 | J7: 13.320496 | K7: 5.7767438 | L7: 16.490777 | M7: =SUM(H7:L7) -> 64.846963
A8: 1T07 | B8: 18.061802 | C8: 50.799756 | D8: 11.731785 | E8: 2.3117731 | F8: 6.019887 | G8: =SUM(B8:F8) -> 88.925003 | H8: 28.420202 | I8: 0.12080358 | J8: 12.343262 | K8: 2.4638951 | L8: 11.64227 | M8: =SUM(H8:L8) -> 54.990432
A9: 2T07 | B9: 17.256838 | C9: 50.560974 | D9: 13.372128 | E9: 3.4567839 | F9: 9.3647276 | G9: =SUM(B9:F9) -> 94.011451 | H9: 27.813026 | I9: 0.1329309 | J9: 12.193171 | K9: 3.714235 | L9: 14.771506 | M9: =SUM(H9:L9) -> 58.624868
A10: 3T07 | B10: 16.778935 | C10: 61.709686 | D10: 11.862094 | E10: 2.7121305 | F10: 8.94608 | G10: =SUM(B10:F10) -> 102.00893 | H10: 28.378619 | I10: 0.1552462 | J10: 12.337232 | K10: 4.1044716 | L10: 15.68101 | M10: =SUM(H10:L10) -> 60.656579
A11: 4T07 | B11: 22.105182 | C11: 60.442774 | D11: 14.28065 | E11: 5.2660798 | F11: 15.33707 | G11: =SUM(B11:F11) -> 117.43176 | H11: 32.160327 | I11: 0.17702339 | J11: 14.346258 | K11: 5.1426435 | L11: 16.905847 | M11: =SUM(H11:L11) -> 68.732098
A12: 1T08 | B12: 19.815341 | C12: 55.22685 | D12: 12.001197 | E12: 2.6697717 | F12: 5.8423341 | G12: =SUM(B12:F12) -> 95.555494 | H12: 33.436173 | I12: 0.11255943 | J12: 13.641695 | K12: 3.9126297 | L12: 14.049402 | M12: =SUM(H12:L12) -> 65.152459
A13: 2T08 | B13: 19.424165 | C13: 55.731766 | D13: 15.001401 | E13: 2.5705163 | F13: 9.1932437 | G13: =SUM(B13:F13) -> 101.92109 | H13: 32.721834 | I13: 0.12385913 | J13: 13.475815 | K13: 5.8981512 | L13: 17.825632 | M13: =SUM(H13:L13) -> 70.045292
A14: 3T08 | B14: 19.2997 | C14: 68.925725 | D14: 13.533026 | E14: 4.5142146 | F14: 11.178129 | G14: =SUM(B14:F14) -> 117.45079 | H14: 33.387251 | I14: 0.14465154 | J14: 13.635032 | K14: 6.5178413 | L14: 18.923183 | M14: =SUM(H14:L14) -> 72.607959
A15: 4T08 | B15: 27.304132 | C15: 68.092473 | D15: 17.030192 | E15: 5.135098 | F15: 15.169074 | G15: =SUM(B15:F15) -> 132.73097 | H15: 37.836404 | I15: 0.16494256 | J15: 15.855394 | K15: 8.1664433 | L15: 20.401265 | M15: =SUM(H15:L15) -> 82.424449
... A19: 4T09 | B19: 28.808599 | C19: 75.493277 | D19: 18.90368 | E19: 8.418361 | F19: 16.120613 | G19: =SUM(B19:F19) -> 147.74453 | H19: 41.004752 | I19: 0.20373595 | J19: 17.344146 | K19: 10.389688 | L19: 22.04156 | M19: =SUM(H19:L19) -> 90.983881
A20: 1T10 | B20: 27.053916 | C20: 74.955099 | D20: 15.782433 | E20: 5.2912861 | F20: 10.541002 | G20: =SUM(B20:F20) -> 133.62374 | H20: 40.774326 | I20: 0.15077699 | J20: 17.386605 | K20: 6.9288405 | L20: 17.2761 | M20: =SUM(H20:L20) -> 82.516648 | N20: 29.752781 | O20: 0.24414831 | P20: 3.2993635 | Q20: 7.1651773 | R20: 22.461599 | S20: =SUM(N20:R20) -> 62.92307 | T20: =B20+H20+N20 -> 97.581023 | U20: =C20+I20+O20 -> 75.350024 | V20: =D20+J20+P20 -> 36.468401 | W20: =E20+K20+Q20 -> 19.385304 | X20: =F20+L20+R20 -> 50.278701 | Y20: =SUM(T20:X20) -> 279.06345
A21: 2T10 | B21: 25.504588 | C21: 74.094547 | D21: 18.280912 | E21: 6.7591501 | F21: 12.476548 | G21: =SUM(B21:F21) -> 137.11575 | H21: 40.516468 | I21: 0.20019581 | J21: 15.884183 | K21: 10.493985 | L21: 22.400477 | M21: =SUM(H21:L21) -> 89.495309 | N21: 32.260576 | O21: 0.29981756 | P21: 3.5774552 | Q21: 7.0630914 | R21: 29.142904 | S21: =SUM(N21:R21) -> 72.343844 | T21: =B21+H21+N21 -> 98.281632 | U21: =C21+I21+O21 -> 74.594561 | V21: =D21+J21+P21 -> 37.74255 | W21: =E21+K21+Q21 -> 24.316226 | X21: =F21+L21+R21 -> 64.01993 | Y21: =SUM(T21:X21) -> 298.9549
A22: 3T10 | B22: 25.639299 | C22: 89.075142 | D22: 17.216084 | E22: 7.4027881 | F22: 12.680799 | G22: =SUM(B22:F22) -> 152.01411 | H22: 39.010453 | I22: 0.26139555 | J22: 15.503435 | K22: 11.996478 | L22: 23.461546 | M22: =SUM(H22:L22) -> 90.233308 | N22: 32.067025 | O22: 0.30699323 | P22: 3.5555783 | Q22: 8.9174967 | R22: 29.720462 | S22: =SUM(N22:R22) -> 74.567555 | T22: =B22+H22+N22 -> 96.716777 | U22: =C22+I22+O22 -> 89.643531 | V22: =D22+J22+P22 -> 36.275098 | W22: =E22+K22+Q22 -> 28.316763 | X22: =F22+L22+R22 -> 65.862807 | Y22: =SUM(T22:X22) -> 316.81498
A23: 4T10 | B23: 33.798004 | C23: 82.700728 | D23: 20.570074 | E23: 10.615435 | F23: 17.443165 | G23: =SUM(B23:F23) -> 165.12741 | H23: 48.517148 | I23: 0.26304813 | J23: 20.386508 | K23: 13.454789 | L23: 24.184066 | M23: =SUM(H23:L23) -> 106.80556 | N23: 40.431101 | O23: 0.36375507 | P23: 4.4839231 | Q23: 11.059146 | R23: 35.009161 | S23: =SUM(N23:R23) -> 91.347086 | T23: =B23+H23+N23 -> 122.74625 | U23: =C23+I23+O23 -> 83.327531 | V23: =D23+J23+P23 -> 45.440506 | W23: =E23+K23+Q23 -> 35.12937 | X23: =F23+L23+R23 -> 76.636392 | Y23: =SUM(T23:X23) -> 363.28005
A24: 1T11 | B24: 27.460171 | C24: 81.745732 | D24: 17.777612 | E24: 4.7245937 | F24: 14.352598 | G24: =SUM(B24:F24) -> 146.06071 | H24: 46.317286 | I24: 0.18926655 | J24: 18.744323 | K24: 5.2436013 | L24: 17.01027 | M24: =SUM(H24:L24) -> 87.504746 | N24: 32.941654 | O24: 0.2934734 | P24: 3.600354 | Q24: 6.8484548 | R24: 24.987344 | S24: =SUM(N24:R24) -> 68.671281 | T24: =B24+H24+N24 -> 106.71911 | U24: =C24+I24+O24 -> 82.228472 | V24: =D24+J24+P24 -> 40.122289 | W24: =E24+K24+Q24 -> 16.81665 | X24: =F24+L24+R24 -> 56.350212 | Y24: =SUM(T24:X24) -> 302.23673
A25: 2T11 | B25: 31.798545 | C25: 85.428989 | D25: 20.12823 | E25: 5.7981029 | F25: 17.325294 | G25: =SUM(B25:F25) -> 160.47916 | H25: 45.429053 | I25: 0.20745439 | J25: 18.749463 | K25: 7.8587779 | L25: 22.249922 | M25: =SUM(H25:L25) -> 94.49467 | N25: 37.040059 | O25: 0.38344375 | P25: 4.049517 | Q25: 8.187891 | R25: 34.07839 | S25: =SUM(N25:R25) -> 83.739301 | T25: =B25+H25+N25 -> 114.26766 | U25: =C25+I25+O25 -> 86.019887 | V25: =D25+J25+P25 -> 42.92721 | W25: =E25+K25+Q25 -> 21.844772 | X25: =F25+L25+R25 -> 73.653606 | Y25: =SUM(T25:X25) -> 338.71313
A26: 3T11 | B26: 27.044655 | C26: 100.059 | D26: 17.996764 | E26: 6.3150735 | F26: 15.152114 | G26: =SUM(B26:F26) -> 166.5676 | H26: 46.326403 | I26: 0.25819934 | J26: 18.600787 | K26: 8.3279831 | L26: 23.984407 | M26: =SUM(H26:L26) -> 97.497779 | N26: 37.155872 | O26: 0.38338207 | P26: 4.0623725 | Q26: 9.3547087 | R26: 34.098576 | S26: =SUM(N26:R26) -> 85.054912 | T26: =B26+H26+N26 -> 110.52693 | U26: =C26+I26+O26 -> 100.70058 | V26: =D26+J26+P26 -> 40.659923 | W26: =E26+K26+Q26 -> 23.997765 | X26: =F26+L26+R26 -> 73.235097 | Y26: =SUM(T26:X26) -> 349.12029
A27: 4T11 | B27: 34.18064 | C27: 91.506103 | D27: 21.03064 | E27: 8.6594906 | F27: 23.201715 | G27: =SUM(B27:F27) -> 178.57859 | H27: 51.931315 | I27: 0.30210539 | J27: 22.688691 | K27: 12.385992 | L27: 30.257406 | M27: =SUM(H27:L27) -> 117.56551 | N27: 47.397568 | O27: 0.43882845 | P27: 5.1803693 | Q27: 12.248862 | R27: 38.663999 | S27: =SUM(N27:R27) -> 103.92963 | T27: =B27+H27+N27 -> 133.50952 | U27: =C27+I27+O27 -> 92.247037 | V27: =D27+J27+P27 -> 48.899699 | W27: =E27+K27+Q27 -> 33.294344 | X27: =F27+L27+R27 -> 92.12312 | Y27: =SUM(T27:X27) -> 400.07372
A28: 1T12 | B28: 28.522058 | C28: 94.522031 | D28: 18.251069 | E28: 4.4497817 | F28: 22.09226 | G28: =SUM(B28:F28) -> 167.8372 | H28: 51.994144 | I28: 0.26353413 | J28: 20.976856 | K28: 5.283921 | L28: 19.416453 | M28: =SUM(H28:L28) -> 97.934908 | N28: 38.151428 | O28: 0.3592363 | P28: 4.2669543 | Q28: 8.8377459 | R28: 30.153249 | S28: =SUM(N28:R28) -> 81.768614 | T28: =B28+H28+N28 -> 118.66763 | U28: =C28+I28+O28 -> 95.144802 | V28: =D28+J28+P28 -> 43.494879 | W28: =E28+K28+Q28 -> 18.571449 | X28: =F28+L28+R28 -> 71.661962 | Y28: =SUM(T28:X28) -> 347.54072
A29: 2T12 | B29: 32.034491 | C29: 97.404992 | D29: 21.418227 | E29: 5.7672064 | F29: 19.767635 | G29: =SUM(B29:F29) -> 176.39255 | H29: 50.572265 | I29: 0.32798998 | J29: 22.045228 | K29: 7.5768166 | L29: 25.578986 | M29: =SUM(H29:L29) -> 106.10129 | N29: 43.618669 | O29: 0.44241487 | P29: 4.8763207 | Q29: 10.582179 | R29: 38.025713 | S29: =SUM(N29:R29) -> 97.545297 | T29: =B29+H29+N29 -> 126.22542 | U29: =C29+I29+O29 -> 98.175397 | V29: =D29+J29+P29 -> 48.339775 | W29: =E29+K29+Q29 -> 23.926202 | X29: =F29+L29+R29 -> 83.372334 | Y29: =SUM(T29:X29) -> 380.03913
A30: 3T12 | B30: 28.238326 | C30: 113.25903 | D30: 18.649235 | E30: 6.6772977 | F30: 19.035807 | G30: =SUM(B30:F30) -> 185.8597 | H30: 52.558477 | I30: 0.37377002 | J30: 22.465826 | K30: 8.7020257 | L30: 27.624128 | M30: =SUM(H30:L30) -> 111.72423 | N30: 42.633228 | O30: 0.43891463 | P30: 4.7664468 | Q30: 11.938522 | R30: 37.799669 | S30: =SUM(N30:R30) -> 97.576781 | T30: =B30+H30+N30 -> 123.43003 | U30: =C30+I30+O30 -> 114.07171 | V30: =D30+J30+P30 -> 45.881509 | W30: =E30+K30+Q30 -> 27.317845 | X30: =F30+L30+R30 -> 84.459605 | Y30: =SUM(T30:X30) -> 395.1607
A31: 4T12 | B31: 36.405708 | C31: 105.05493 | D31: 21.932419 | E31: 8.2906041 | F31: 20.463983 | G31: =SUM(B31:F31) -> 192.14764 | H31: 58.5948 | I31: 0.46845206 | J31: 25.379972 | K31: 12.704041 | L31: 32.228681 | M31: =SUM(H31:L31) -> 129.37595 | N31: 52.960932 | O31: 0.49091583 | P31: 5.9225914 | Q31: 13.286038 | R31: 41.743771 | S31: =SUM(N31:R31) -> 114.40425 | T31: =B31+H31+N31 -> 147.96144 | U31: =C31+I31+O31 -> 106.01429 | V31: =D31+J31+P31 -> 53.234982 | W31: =E31+K31+Q31 -> 34.280684 | X31: =F31+L31+R31 -> 94.436435 | Y31: =SUM(T31:X31) -> 435.92783
... A85: 2T26 | B85: 69.633188 | C85: 439.66455 | D85: 48.602286 | E85: 9.4007252 | F85: 46.507364 | G85: =SUM(B85:F85) -> 613.80811 | H85: 144.77945 | I85: 2.4382035 | J85: 76.134703 | K85: 29.133889 | L85: 93.920081 | M85: =SUM(H85:L85) -> 346.40632 | N85: 153.46629 | O85: 1.5783177 | P85: 25.442906 | Q85: 25.575222 | R85: 150.36296 | S85: =SUM(N85:R85) -> 356.42569 | T85: =B85+H85+N85 -> 367.87892 | U85: =C85+I85+O85 -> 443.68107 | V85: =D85+J85+P85 -> 150.1799 | W85: =E85+K85+Q85 -> 64.109836 | X85: =F85+L85+R85 -> 290.7904 | Y85: =SUM(T85:X85) -> 1316.6401
A88: Nota: dados dos governos estaduais estão disponíveis apenas em bases anuais para o período 2006-2009. A trimestralização foi realizada usando os fatores sazonais da média 2010-2016

Sheet Valores_R$_constantes
A1: Gastos primários do Governo Geral, em R$ bilhões constantes do 2T26 (deflator do PIB)
B2: Governo Central Orçamentário | H2: Governos Estaduais | N2: Governos Municipais | T2: Governo Geral
B3: Remuneração de empregados (incluindo contribuições sociais efetivas) | C3: Benefícios previdenciários RGPS/INSS e assistenciais | D3: RPPS | E3: Investimentos brutos | F3: Outros (uso de bens e serviços, subsídios e outros) | G3: TOTAL | H3: Remuneração de empregados (incluindo contribuições sociais efetivas) | I3: Benefícios previdenciários RGPS/INSS e assistenciais | J3: RPPS | K3: Investimentos brutos | L3: Outros (uso de bens e serviços, subsídios e outros) | M3: TOTAL | N3: Remuneração de empregados (incluindo contribuições sociais efetivas) | O3: Benefícios previdenciários RGPS/INSS e assistenciais | P3: RPPS | Q3: Investimentos brutos | R3: Outros (uso de bens e serviços, subsídios e outros) | S3: TOTAL | T3: Remuneração de empregados (incluindo contribuições sociais efetivas) | U3: Benefícios previdenciários RGPS/INSS e assistenciais | V3: RPPS | W3: Investimentos brutos | X3: Outros (uso de bens e serviços, subsídios e outros) | Y3: TOTAL
A4: 1T06 | B4: =Valores_correntes!B4/AUX_PIB!$B4 -> 64.876589 | C4: =Valores_correntes!C4/AUX_PIB!$B4 -> 174.24035 | D4: =Valores_correntes!D4/AUX_PIB!$B4 -> 40.316027 | E4: =Valores_correntes!E4/AUX_PIB!$B4 -> 10.894217 | F4: =Valores_correntes!F4/AUX_PIB!$B4 -> 21.406825 | G4: =Valores_correntes!G4/AUX_PIB!$B4 -> 311.73401 | H4: =Valores_correntes!H4/AUX_PIB!$B4 -> 102.17824 | I4: =Valores_correntes!I4/AUX_PIB!$B4 -> 0.56211112 | ... M4: =Valores_correntes!M4/AUX_PIB!$B4 -> 204.56636 | Y4: =G4+M4 -> 516.30038
A5: 2T06 | B5: =Valores_correntes!B5/AUX_PIB!$B5 -> 57.629632 | C5: =Valores_correntes!C5/AUX_PIB!$B5 -> 177.56635 | D5: =Valores_correntes!D5/AUX_PIB!$B5 -> 46.538088 | E5: =Valores_correntes!E5/AUX_PIB!$B5 -> 6.8740119 | F5: =Valores_correntes!F5/AUX_PIB!$B5 -> 27.009756 | G5: =Valores_correntes!G5/AUX_PIB!$B5 -> 315.61784 | H5: =Valores_correntes!H5/AUX_PIB!$B5 -> 98.174269 | I5: =Valores_correntes!I5/AUX_PIB!$B5 -> 0.60727654 | ... M5: =Valores_correntes!M5/AUX_PIB!$B5 -> 215.62388 | Y5: =G5+M5 -> 531.24172
A6: 3T06 | B6: =Valores_correntes!B6/AUX_PIB!$B6 -> 58.140974 | C6: =Valores_correntes!C6/AUX_PIB!$B6 -> 208.62595 | D6: =Valores_correntes!D6/AUX_PIB!$B6 -> 42.764021 | E6: =Valores_correntes!E6/AUX_PIB!$B6 -> 7.3780209 | F6: =Valores_correntes!F6/AUX_PIB!$B6 -> 32.492017 | G6: =Valores_correntes!G6/AUX_PIB!$B6 -> 349.40098 | H6: =Valores_correntes!H6/AUX_PIB!$B6 -> 97.633355 | I6: =Valores_correntes!I6/AUX_PIB!$B6 -> 0.69125622 | ... M6: =Valores_correntes!M6/AUX_PIB!$B6 -> 217.76498 | Y6: =G6+M6 -> 567.16596
A7: 4T06 | B7: =Valores_correntes!B7/AUX_PIB!$B7 -> 76.88272 | C7: =Valores_correntes!C7/AUX_PIB!$B7 -> 201.98325 | D7: =Valores_correntes!D7/AUX_PIB!$B7 -> 49.39233 | E7: =Valores_correntes!E7/AUX_PIB!$B7 -> 35.287362 | F7: =Valores_correntes!F7/AUX_PIB!$B7 -> 75.10274 | G7: =Valores_correntes!G7/AUX_PIB!$B7 -> 438.6484 | H7: =Valores_correntes!H7/AUX_PIB!$B7 -> 104.04252 | I7: =Valores_correntes!I7/AUX_PIB!$B7 -> 0.74119444 | ... M7: =Valores_correntes!M7/AUX_PIB!$B7 -> 232.23343 | Y7: =G7+M7 -> 670.88183
A8: 1T07 | B8: =Valores_correntes!B8/AUX_PIB!$B8 -> 66.379229 | C8: =Valores_correntes!C8/AUX_PIB!$B8 -> 186.69502 | D8: =Valores_correntes!D8/AUX_PIB!$B8 -> 43.115676 | E8: =Valores_correntes!E8/AUX_PIB!$B8 -> 8.4960356 | F8: =Valores_correntes!F8/AUX_PIB!$B8 -> 22.123786 | G8: =Valores_correntes!G8/AUX_PIB!$B8 -> 326.80975 | H8: =Valores_correntes!H8/AUX_PIB!$B8 -> 104.44755 | I8: =Valores_correntes!I8/AUX_PIB!$B8 -> 0.44396723 | ... M8: =Valores_correntes!M8/AUX_PIB!$B8 -> 202.09625 | Y8: =G8+M8 -> 528.906
A9: 2T07 | B9: =Valores_correntes!B9/AUX_PIB!$B9 -> 62.339543 | C9: =Valores_correntes!C9/AUX_PIB!$B9 -> 182.64922 | D9: =Valores_correntes!D9/AUX_PIB!$B9 -> 48.306203 | E9: =Valores_correntes!E9/AUX_PIB!$B9 -> 12.487474 | F9: =Valores_correntes!F9/AUX_PIB!$B9 -> 33.829652 | G9: =Valores_correntes!G9/AUX_PIB!$B9 -> 339.61209 | H9: =Valores_correntes!H9/AUX_PIB!$B9 -> 100.47329 | I9: =Valores_correntes!I9/AUX_PIB!$B9 -> 0.48020683 | ... M9: =Valores_correntes!M9/AUX_PIB!$B9 -> 211.77967 | Y9: =G9+M9 -> 551.39176
A10: 3T07 | B10: =Valores_correntes!B10/AUX_PIB!$B10 -> 60.417401 | C10: =Valores_correntes!C10/AUX_PIB!$B10 -> 222.20355 | D10: =Valores_correntes!D10/AUX_PIB!$B10 -> 42.712897 | E10: =Valores_correntes!E10/AUX_PIB!$B10 -> 9.765809 | F10: =Valores_correntes!F10/AUX_PIB!$B10 -> 32.212945 | G10: =Valores_correntes!G10/AUX_PIB!$B10 -> 367.3126 | H10: =Valores_correntes!H10/AUX_PIB!$B10 -> 102.18541 | I10: =Valores_correntes!I10/AUX_PIB!$B10 -> 0.55900878 | ... M10: =Valores_correntes!M10/AUX_PIB!$B10 -> 218.41153 | Y10: =G10+M10 -> 585.72413
A11: 4T07 | B11: =Valores_correntes!B11/AUX_PIB!$B11 -> 76.170226 | C11: =Valores_correntes!C11/AUX_PIB!$B11 -> 208.27423 | D11: =Valores_correntes!D11/AUX_PIB!$B11 -> 49.208388 | E11: =Valores_correntes!E11/AUX_PIB!$B11 -> 18.145903 | F11: =Valores_correntes!F11/AUX_PIB!$B11 -> 52.848606 | G11: =Valores_correntes!G11/AUX_PIB!$B11 -> 404.64736 | H11: =Valores_correntes!H11/AUX_PIB!$B11 -> 110.81833 | I11: =Valores_correntes!I11/AUX_PIB!$B11 -> 0.60998871 | ... M11: =Valores_correntes!M11/AUX_PIB!$B11 -> 236.83766 | Y11: =G11+M11 -> 641.48501
A12: 1T08 | B12: =Valores_correntes!B12/AUX_PIB!$B12 -> 68.553506 | C12: =Valores_correntes!C12/AUX_PIB!$B12 -> 191.06379 | D12: =Valores_correntes!D12/AUX_PIB!$B12 -> 41.519554 | E12: =Valores_correntes!E12/AUX_PIB!$B12 -> 9.2363897 | F12: =Valores_correntes!F12/AUX_PIB!$B12 -> 20.212243 | G12: =Valores_correntes!G12/AUX_PIB!$B12 -> 330.58548 | H12: =Valores_correntes!H12/AUX_PIB!$B12 -> 115.67638 | I12: =Valores_correntes!I12/AUX_PIB!$B12 -> 0.38941261 | ... M12: =Valores_correntes!M12/AUX_PIB!$B12 -> 225.4026 | Y12: =G12+M12 -> 555.98809
A13: 2T08 | B13: =Valores_correntes!B13/AUX_PIB!$B13 -> 65.028197 | C13: =Valores_correntes!C13/AUX_PIB!$B13 -> 186.57874 | D13: =Valores_correntes!D13/AUX_PIB!$B13 -> 50.221673 | E13: =Valores_correntes!E13/AUX_PIB!$B13 -> 8.6055716 | F13: =Valores_correntes!F13/AUX_PIB!$B13 -> 30.777131 | G13: =Valores_correntes!G13/AUX_PIB!$B13 -> 341.21132 | H13: =Valores_correntes!H13/AUX_PIB!$B13 -> 109.54612 | I13: =Valores_correntes!I13/AUX_PIB!$B13 -> 0.41465547 | ... M13: =Valores_correntes!M13/AUX_PIB!$B13 -> 234.49755 | Y13: =G13+M13 -> 575.70887
A14: 3T08 | B14: =Valores_correntes!B14/AUX_PIB!$B14 -> 63.297314 | C14: =Valores_correntes!C14/AUX_PIB!$B14 -> 226.05602 | D14: =Valores_correntes!D14/AUX_PIB!$B14 -> 44.384329 | E14: =Valores_correntes!E14/AUX_PIB!$B14 -> 14.80529 | F14: =Valores_correntes!F14/AUX_PIB!$B14 -> 36.660962 | G14: =Valores_correntes!G14/AUX_PIB!$B14 -> 385.20391 | H14: =Valores_correntes!H14/AUX_PIB!$B14 -> 109.50032 | I14: =Valores_correntes!I14/AUX_PIB!$B14 -> 0.47441433 | ... M14: =Valores_correntes!M14/AUX_PIB!$B14 -> 238.13266 | Y14: =G14+M14 -> 623.33657
A15: 4T08 | B15: =Valores_correntes!B15/AUX_PIB!$B15 -> 84.647594 | C15: =Valores_correntes!C15/AUX_PIB!$B15 -> 211.0986 | D15: =Valores_correntes!D15/AUX_PIB!$B15 -> 52.796578 | E15: =Valores_correntes!E15/AUX_PIB!$B15 -> 15.919703 | F15: =Valores_correntes!F15/AUX_PIB!$B15 -> 47.026786 | G15: =Valores_correntes!G15/AUX_PIB!$B15 -> 411.48926 | H15: =Valores_correntes!H15/AUX_PIB!$B15 -> 117.29948 | I15: =Valores_correntes!I15/AUX_PIB!$B15 -> 0.51135084 | ... M15: =Valores_correntes!M15/AUX_PIB!$B15 -> 255.53023 | Y15: =G15+M15 -> 667.01949
... A19: 4T09 | B19: =Valores_correntes!B19/AUX_PIB!$B19 -> 83.34992 | C19: =Valores_correntes!C19/AUX_PIB!$B19 -> 218.41946 | D19: =Valores_correntes!D19/AUX_PIB!$B19 -> 54.692705 | E19: =Valores_correntes!E19/AUX_PIB!$B19 -> 24.35626 | F19: =Valores_correntes!F19/AUX_PIB!$B19 -> 46.64065 | G19: =Valores_correntes!G19/AUX_PIB!$B19 -> 427.45899 | H19: =Valores_correntes!H19/AUX_PIB!$B19 -> 118.6362 | I19: =Valores_correntes!I19/AUX_PIB!$B19 -> 0.58945508 | ... M19: =Valores_correntes!M19/AUX_PIB!$B19 -> 263.23735 | Y19: =G19+M19 -> 690.69634
A20: 1T10 | B20: =Valores_correntes!B20/AUX_PIB!$B20 -> 80.119115 | C20: =Valores_correntes!C20/AUX_PIB!$B20 -> 221.9766 | D20: =Valores_correntes!D20/AUX_PIB!$B20 -> 46.739057 | E20: =Valores_correntes!E20/AUX_PIB!$B20 -> 15.669937 | F20: =Valores_correntes!F20/AUX_PIB!$B20 -> 31.216766 | G20: =Valores_correntes!G20/AUX_PIB!$B20 -> 395.72147 | H20: =Valores_correntes!H20/AUX_PIB!$B20 -> 120.75157 | I20: =Valores_correntes!I20/AUX_PIB!$B20 -> 0.44652017 | ... Y20: =Valores_correntes!Y20/AUX_PIB!$B20 -> 826.43551
A21: 2T10 | B21: =Valores_correntes!B21/AUX_PIB!$B21 -> 73.856398 | C21: =Valores_correntes!C21/AUX_PIB!$B21 -> 214.5636 | D21: =Valores_correntes!D21/AUX_PIB!$B21 -> 52.938016 | E21: =Valores_correntes!E21/AUX_PIB!$B21 -> 19.573203 | F21: =Valores_correntes!F21/AUX_PIB!$B21 -> 36.129692 | G21: =Valores_correntes!G21/AUX_PIB!$B21 -> 397.06091 | H21: =Valores_correntes!H21/AUX_PIB!$B21 -> 117.32792 | I21: =Valores_correntes!I21/AUX_PIB!$B21 -> 0.57972869 | ... Y21: =Valores_correntes!Y21/AUX_PIB!$B21 -> 865.71606
A22: 3T10 | B22: =Valores_correntes!B22/AUX_PIB!$B22 -> 72.351045 | C22: =Valores_correntes!C22/AUX_PIB!$B22 -> 251.35943 | D22: =Valores_correntes!D22/AUX_PIB!$B22 -> 48.581738 | E22: =Valores_correntes!E22/AUX_PIB!$B22 -> 20.889786 | F22: =Valores_correntes!F22/AUX_PIB!$B22 -> 35.783703 | G22: =Valores_correntes!G22/AUX_PIB!$B22 -> 428.96571 | H22: =Valores_correntes!H22/AUX_PIB!$B22 -> 110.08285 | I22: =Valores_correntes!I22/AUX_PIB!$B22 -> 0.73762708 | ... Y22: =Valores_correntes!Y22/AUX_PIB!$B22 -> 894.0141
A23: 4T10 | B23: =Valores_correntes!B23/AUX_PIB!$B23 -> 89.970084 | C23: =Valores_correntes!C23/AUX_PIB!$B23 -> 220.14884 | D23: =Valores_correntes!D23/AUX_PIB!$B23 -> 54.757415 | E23: =Valores_correntes!E23/AUX_PIB!$B23 -> 28.258225 | F23: =Valores_correntes!F23/AUX_PIB!$B23 -> 46.433601 | G23: =Valores_correntes!G23/AUX_PIB!$B23 -> 439.56817 | H23: =Valores_correntes!H23/AUX_PIB!$B23 -> 129.15236 | I23: =Valores_correntes!I23/AUX_PIB!$B23 -> 0.70023254 | ... Y23: =Valores_correntes!Y23/AUX_PIB!$B23 -> 967.04932
A24: 1T11 | B24: =Valores_correntes!B24/AUX_PIB!$B24 -> 74.595533 | C24: =Valores_correntes!C24/AUX_PIB!$B24 -> 222.06221 | D24: =Valores_correntes!D24/AUX_PIB!$B24 -> 48.292869 | E24: =Valores_correntes!E24/AUX_PIB!$B24 -> 12.834355 | F24: =Valores_correntes!F24/AUX_PIB!$B24 -> 38.98882 | G24: =Valores_correntes!G24/AUX_PIB!$B24 -> 396.77379 | H24: =Valores_correntes!H24/AUX_PIB!$B24 -> 125.82087 | I24: =Valores_correntes!I24/AUX_PIB!$B24 -> 0.51414242 | ... Y24: =Valores_correntes!Y24/AUX_PIB!$B24 -> 821.02585
A25: 2T11 | B25: =Valores_correntes!B25/AUX_PIB!$B25 -> 83.762566 | C25: =Valores_correntes!C25/AUX_PIB!$B25 -> 225.03392 | D25: =Valores_correntes!D25/AUX_PIB!$B25 -> 53.021047 | E25: =Valores_correntes!E25/AUX_PIB!$B25 -> 15.273151 | F25: =Valores_correntes!F25/AUX_PIB!$B25 -> 45.637657 | G25: =Valores_correntes!G25/AUX_PIB!$B25 -> 422.72834 | H25: =Valores_correntes!H25/AUX_PIB!$B25 -> 119.66755 | I25: =Valores_correntes!I25/AUX_PIB!$B25 -> 0.54646877 | ... Y25: =Valores_correntes!Y25/AUX_PIB!$B25 -> 892.22576
A26: 3T11 | B26: =Valores_correntes!B26/AUX_PIB!$B26 -> 70.889837 | C26: =Valores_correntes!C26/AUX_PIB!$B26 -> 262.27608 | D26: =Valores_correntes!D26/AUX_PIB!$B26 -> 47.173375 | E26: =Valores_correntes!E26/AUX_PIB!$B26 -> 16.553161 | F26: =Valores_correntes!F26/AUX_PIB!$B26 -> 39.716938 | G26: =Valores_correntes!G26/AUX_PIB!$B26 -> 436.60939 | H26: =Valores_correntes!H26/AUX_PIB!$B26 -> 121.43143 | I26: =Valores_correntes!I26/AUX_PIB!$B26 -> 0.67679581 | ... Y26: =Valores_correntes!Y26/AUX_PIB!$B26 -> 915.11912
A27: 4T11 | B27: =Valores_correntes!B27/AUX_PIB!$B27 -> 85.009378 | C27: =Valores_correntes!C27/AUX_PIB!$B27 -> 227.58137 | D27: =Valores_correntes!D27/AUX_PIB!$B27 -> 52.30451 | E27: =Valores_correntes!E27/AUX_PIB!$B27 -> 21.536692 | F27: =Valores_correntes!F27/AUX_PIB!$B27 -> 57.704109 | G27: =Valores_correntes!G27/AUX_PIB!$B27 -> 444.13606 | H27: =Valores_correntes!H27/AUX_PIB!$B27 -> 129.15641 | I27: =Valores_correntes!I27/AUX_PIB!$B27 -> 0.75135491 | ... Y27: =Valores_correntes!Y27/AUX_PIB!$B27 -> 995.00825
A28: 1T12 | B28: =Valores_correntes!B28/AUX_PIB!$B28 -> 70.922877 | C28: =Valores_correntes!C28/AUX_PIB!$B28 -> 235.03824 | D28: =Valores_correntes!D28/AUX_PIB!$B28 -> 45.383062 | E28: =Valores_correntes!E28/AUX_PIB!$B28 -> 11.064816 | F28: =Valores_correntes!F28/AUX_PIB!$B28 -> 54.934557 | G28: =Valores_correntes!G28/AUX_PIB!$B28 -> 417.34355 | H28: =Valores_correntes!H28/AUX_PIB!$B28 -> 129.2885 | I28: =Valores_correntes!I28/AUX_PIB!$B28 -> 0.6553033 | ... Y28: =Valores_correntes!Y28/AUX_PIB!$B28 -> 864.19387
A29: 2T12 | B29: =Valores_correntes!B29/AUX_PIB!$B29 -> 78.272187 | C29: =Valores_correntes!C29/AUX_PIB!$B29 -> 237.99666 | D29: =Valores_correntes!D29/AUX_PIB!$B29 -> 52.332702 | E29: =Valores_correntes!E29/AUX_PIB!$B29 -> 14.091432 | F29: =Valores_correntes!F29/AUX_PIB!$B29 -> 48.299691 | G29: =Valores_correntes!G29/AUX_PIB!$B29 -> 430.99267 | H29: =Valores_correntes!H29/AUX_PIB!$B29 -> 123.56687 | I29: =Valores_correntes!I29/AUX_PIB!$B29 -> 0.80140163 | ... Y29: =Valores_correntes!Y29/AUX_PIB!$B29 -> 928.57709
A30: 3T12 | B30: =Valores_correntes!B30/AUX_PIB!$B30 -> 68.576499 | C30: =Valores_correntes!C30/AUX_PIB!$B30 -> 275.04845 | D30: =Valores_correntes!D30/AUX_PIB!$B30 -> 45.289487 | E30: =Valores_correntes!E30/AUX_PIB!$B30 -> 16.215753 | F30: =Valores_correntes!F30/AUX_PIB!$B30 -> 46.228272 | G30: =Valores_correntes!G30/AUX_PIB!$B30 -> 451.35846 | H30: =Valores_correntes!H30/AUX_PIB!$B30 -> 127.63775 | I30: =Valores_correntes!I30/AUX_PIB!$B30 -> 0.90769686 | ... Y30: =Valores_correntes!Y30/AUX_PIB!$B30 -> 959.64393
A31: 4T12 | B31: =Valores_correntes!B31/AUX_PIB!$B31 -> 84.698887 | C31: =Valores_correntes!C31/AUX_PIB!$B31 -> 244.41319 | D31: =Valores_correntes!D31/AUX_PIB!$B31 -> 51.02638 | E31: =Valores_correntes!E31/AUX_PIB!$B31 -> 19.28832 | F31: =Valores_correntes!F31/AUX_PIB!$B31 -> 47.610024 | G31: =Valores_correntes!G31/AUX_PIB!$B31 -> 447.0368 | H31: =Valores_correntes!H31/AUX_PIB!$B31 -> 136.32243 | I31: =Valores_correntes!I31/AUX_PIB!$B31 -> 1.0898667 | ... Y31: =Valores_correntes!Y31/AUX_PIB!$B31 -> 1014.1982
... A85: 2T26 | B85: =Valores_correntes!B85/AUX_PIB!$B85 -> 69.633188 | C85: =Valores_correntes!C85/AUX_PIB!$B85 -> 439.66455 | D85: =Valores_correntes!D85/AUX_PIB!$B85 -> 48.602286 | E85: =Valores_correntes!E85/AUX_PIB!$B85 -> 9.4007252 | F85: =Valores_correntes!F85/AUX_PIB!$B85 -> 46.507364 | G85: =Valores_correntes!G85/AUX_PIB!$B85 -> 613.80811 | H85: =Valores_correntes!H85/AUX_PIB!$B85 -> 144.77945 | I85: =Valores_correntes!I85/AUX_PIB!$B85 -> 2.4382035 | ... Y85: =Valores_correntes!Y85/AUX_PIB!$B85 -> 1316.6401

Sheet Valores_R$_constantes_dessaz
A1: Gastos primários do Governo Geral, em R$ bilhões constantes do 2T26 (deflator do PIB), com ajuste sazonal
B2: Governo Central Orçamentário | H2: Governos Estaduais | N2: Governos Municipais | T2: Governo Geral
B3: Remuneração de empregados (incluindo contribuições sociais efetivas) | C3: Benefícios previdenciários RGPS/INSS e assistenciais | D3: RPPS | E3: Investimentos brutos | F3: Outros (uso de bens e serviços, subsídios e outros) | G3: TOTAL | H3: Remuneração de empregados (incluindo contribuições sociais efetivas) | I3: Benefícios previdenciários RGPS/INSS e assistenciais | J3: RPPS | K3: Investimentos brutos | L3: Outros (uso de bens e serviços, subsídios e outros) | M3: TOTAL | N3: Remuneração de empregados (incluindo contribuições sociais efetivas) | O3: Benefícios previdenciários RGPS/INSS e assistenciais | P3: RPPS | Q3: Investimentos brutos | R3: Outros (uso de bens e serviços, subsídios e outros) | S3: TOTAL | T3: Remuneração de empregados (incluindo contribuições sociais efetivas) | U3: Benefícios previdenciários RGPS/INSS e assistenciais | V3: RPPS | W3: Investimentos brutos | X3: Outros (uso de bens e serviços, subsídios e outros) | Y3: TOTAL
A4: 1T06 | B4: 63.688312 | C4: 181.61952 | D4: 43.821715 | E4: 14.614647 | F4: 28.767685 | G4: =SUM(B4:F4) -> 332.51188 | H4: 98.981084 | I4: 0.65033369 | J4: 45.235822 | K4: 15.703768 | L4: 55.005575 | M4: =SUM(H4:L4) -> 215.57658
A5: 2T06 | B5: 62.30278 | C5: 190.27815 | D5: 44.350442 | E5: 7.1532291 | F5: 29.648159 | G5: =SUM(B5:F5) -> 333.73276 | H5: 100.85595 | I5: 0.68167792 | J5: 45.617266 | K5: 15.957778 | L5: 54.774008 | M5: =SUM(H5:L5) -> 217.88668
A6: 3T06 | B6: 64.817215 | C6: 189.01376 | D6: 45.264673 | E6: 7.9649282 | F6: 34.063963 | G6: =SUM(B6:F6) -> 341.12454 | H6: 101.12589 | I6: 0.63774012 | J6: 45.346786 | K6: 16.30023 | L6: 54.605357 | M6: =SUM(H6:L6) -> 218.01601
A7: 4T06 | B7: 66.803055 | C7: 201.60713 | D7: 45.481303 | E7: 25.774404 | F7: 54.300889 | G7: =SUM(B7:F7) -> 393.96678 | H7: 101.05129 | I7: 0.63885598 | J7: 45.030682 | K7: 17.251085 | L7: 54.499274 | M7: =SUM(H7:L7) -> 218.47119
A8: 1T07 | B8: 65.096875 | C8: 194.03124 | D8: 46.859882 | E8: 11.424092 | F8: 29.41286 | G8: =SUM(B8:F8) -> 346.82495 | H8: 101.22039 | I8: 0.52938477 | J8: 44.945879 | K8: 12.880537 | L8: 52.07567 | M8: =SUM(H8:L8) -> 211.65187
A9: 2T07 | B9: 67.022378 | C9: 195.92393 | D9: 46.0659 | E9: 13.044574 | F9: 36.862438 | G9: =SUM(B9:F9) -> 358.91923 | H9: 103.24173 | I9: 0.51601066 | J9: 45.425382 | K9: 13.190963 | L9: 51.926864 | M9: =SUM(H9:L9) -> 214.30095
A10: 3T07 | B10: 66.99233 | C10: 201.12636 | D10: 45.159067 | E10: 10.493397 | F10: 33.824938 | G10: =SUM(B10:F10) -> 357.5961 | H10: 105.69194 | I10: 0.51774726 | J10: 46.237913 | K10: 13.712651 | L10: 52.906398 | M10: =SUM(H10:L10) -> 219.06665
A11: 4T07 | B11: 66.163677 | C11: 208.80037 | D11: 45.376429 | E11: 13.236595 | F11: 38.882824 | G11: =SUM(B11:F11) -> 372.4599 | H11: 107.75308 | I11: 0.52839329 | J11: 46.612971 | K11: 14.696155 | L11: 53.728453 | M11: =SUM(H11:L11) -> 223.31906
A12: 1T08 | B12: 67.684177 | C12: 197.6763 | D12: 45.056309 | E12: 12.51093 | F12: 26.219431 | G12: =SUM(B12:F12) -> 349.14715 | H12: 112.33465 | I12: 0.48302172 | J12: 46.733404 | K12: 19.337921 | L12: 59.213533 | M12: =SUM(H12:L12) -> 238.10253
A13: 2T08 | B13: 69.10837 | C13: 200.01204 | D13: 47.916743 | E13: 9.0275488 | F13: 33.012111 | G13: =SUM(B13:F13) -> 359.07682 | H13: 112.56339 | I13: 0.42562536 | J13: 46.53578 | K13: 19.508488 | L13: 58.111677 | M13: =SUM(H13:L13) -> 237.14496
A14: 3T08 | B14: 69.820288 | C14: 204.47148 | D14: 46.86667 | E14: 15.746068 | F14: 38.611565 | G14: =SUM(B14:F14) -> 375.51607 | H14: 113.02839 | I14: 0.43432321 | J14: 46.663195 | K14: 19.872143 | L14: 58.135211 | M14: =SUM(H14:L14) -> 238.13326
A15: 4T08 | B15: 74.883899 | C15: 213.18186 | D15: 48.794738 | E15: 11.602721 | F15: 35.772963 | G15: =SUM(B15:F15) -> 384.23618 | H15: 113.92421 | I15: 0.44496589 | J15: 46.219045 | K15: 20.763455 | L15: 58.229204 | M15: =SUM(H15:L15) -> 239.58088
... A19: 4T09 | B19: 73.710501 | C19: 222.76944 | D19: 50.736524 | E19: 17.886468 | F19: 37.228575 | G19: =SUM(B19:F19) -> 402.33151 | H19: 115.07275 | I19: 0.5185748 | J19: 47.066453 | K19: 24.108426 | L19: 58.420648 | M19: =SUM(H19:L19) -> 245.18685
A20: 1T10 | B20: 81.225279 | C20: 228.32363 | D20: 50.577331 | E20: 21.476501 | F20: 36.5893 | G20: =SUM(B20:F20) -> 418.19204 | H20: 117.43039 | I20: 0.54212478 | J20: 51.176057 | K20: 30.147764 | L20: 62.781889 | M20: =SUM(H20:L20) -> 262.07823 | N20: 97.374606 | O20: 0.87419039 | P20: 10.653541 | Q20: 26.394928 | R20: 86.32524 | S20: =SUM(N20:R20) -> 221.62251 | T20: =B20+H20+N20 -> 296.03028 | U20: =C20+I20+O20 -> 229.73994 | V20: =D20+J20+P20 -> 112.40693 | W20: =E20+K20+Q20 -> 78.019193 | X20: =F20+L20+R20 -> 185.69643 | Y20: =G20+M20+S20 -> 901.89277
A21: 2T10 | B21: 75.349341 | C21: 227.16828 | D21: 50.281857 | E21: 20.839039 | F21: 37.598187 | G21: =SUM(B21:F21) -> 411.23671 | H21: 121.06982 | I21: 0.60196049 | J21: 47.33053 | K21: 30.524109 | L21: 63.234213 | M21: =SUM(H21:L21) -> 262.76063 | N21: 94.781423 | O21: 0.8259872 | P21: 10.467987 | Q21: 22.837431 | R21: 79.903029 | S21: =SUM(N21:R21) -> 208.81586 | T21: =B21+H21+N21 -> 291.20058 | U21: =C21+I21+O21 -> 228.59623 | V21: =D21+J21+P21 -> 108.08037 | W21: =E21+K21+Q21 -> 74.200579 | X21: =F21+L21+R21 -> 180.73543 | Y21: =G21+M21+S21 -> 882.8132
A22: 3T10 | B22: 78.93593 | C22: 227.1123 | D22: 51.286525 | E22: 21.20164 | F22: 37.698554 | G22: =SUM(B22:F22) -> 416.23494 | H22: 113.33837 | I22: 0.69170519 | J22: 45.787161 | K22: 31.786382 | L22: 62.106369 | M22: =SUM(H22:L22) -> 253.70999 | N22: 94.244218 | O22: 0.84747232 | P22: 10.44196 | Q22: 23.998448 | R22: 79.93049 | S22: =SUM(N22:R22) -> 209.46259 | T22: =B22+H22+N22 -> 286.51852 | U22: =C22+I22+O22 -> 228.65147 | V22: =D22+J22+P22 -> 107.51564 | W22: =E22+K22+Q22 -> 76.986469 | X22: =F22+L22+R22 -> 179.73541 | Y22: =G22+M22+S22 -> 879.40752
A23: 4T10 | B23: 80.650242 | C23: 226.32104 | D23: 51.066161 | E23: 21.097162 | F23: 38.757067 | G23: =SUM(B23:F23) -> 417.89167 | H23: 125.15916 | I23: 0.61932338 | J23: 50.846843 | K23: 28.145376 | L23: 58.733123 | M23: =SUM(H23:L23) -> 263.50382 | N23: 93.127069 | O23: 0.88067582 | P23: 10.538129 | Q23: 23.49666 | R23: 82.180891 | S23: =SUM(N23:R23) -> 210.22343 | T23: =B23+H23+N23 -> 298.93647 | U23: =C23+I23+O23 -> 227.82104 | V23: =D23+J23+P23 -> 112.45113 | W23: =E23+K23+Q23 -> 72.739198 | X23: =F23+L23+R23 -> 179.67108 | Y23: =G23+M23+S23 -> 891.61892
A24: 1T11 | B24: 76.756042 | C24: 228.26193 | D24: 52.150115 | E24: 17.417787 | F24: 43.247293 | G24: =SUM(B24:F24) -> 417.83317 | H24: 122.73001 | I24: 0.57427363 | J24: 50.750454 | K24: 21.268373 | L24: 56.932884 | M24: =SUM(H24:L24) -> 252.256 | N24: 98.988954 | O24: 0.94000115 | P24: 10.677125 | Q24: 23.17189 | R24: 85.67112 | S24: =SUM(N24:R24) -> 219.44909 | T24: =B24+H24+N24 -> 298.47501 | U24: =C24+I24+O24 -> 229.7762 | V24: =D24+J24+P24 -> 113.57769 | W24: =E24+K24+Q24 -> 61.858049 | X24: =F24+L24+R24 -> 185.8513 | Y24: =G24+M24+S24 -> 889.53825
A25: 2T11 | B25: 84.074669 | C25: 236.6935 | D25: 50.112228 | E25: 16.389214 | F25: 47.69967 | G25: =SUM(B25:F25) -> 434.96928 | H25: 123.85324 | I25: 0.59847339 | J25: 50.672904 | K25: 21.044412 | L25: 57.238972 | M25: =SUM(H25:L25) -> 253.408 | N25: 98.830269 | O25: 0.98278104 | P25: 10.765592 | Q25: 24.039333 | R25: 87.345163 | S25: =SUM(N25:R25) -> 221.96314 | T25: =B25+H25+N25 -> 306.75818 | U25: =C25+I25+O25 -> 238.27476 | V25: =D25+J25+P25 -> 111.55072 | W25: =E25+K25+Q25 -> 61.472959 | X25: =F25+L25+R25 -> 192.28381 | Y25: =G25+M25+S25 -> 910.34042
A26: 3T11 | B26: 77.382438 | C26: 237.08313 | D26: 49.913248 | E26: 16.37094 | F26: 41.386883 | G26: =SUM(B26:F26) -> 422.13664 | H26: 124.36645 | I26: 0.64287277 | J26: 51.000891 | K26: 20.525788 | L26: 58.845891 | M26: =SUM(H26:L26) -> 255.38189 | N26: 101.07347 | O26: 0.97606092 | P26: 11.085107 | Q26: 23.446758 | R26: 85.308201 | S26: =SUM(N26:R26) -> 221.8896 | T26: =B26+H26+N26 -> 302.82235 | U26: =C26+I26+O26 -> 238.70206 | V26: =D26+J26+P26 -> 111.99925 | W26: =E26+K26+Q26 -> 60.343486 | X26: =F26+L26+R26 -> 185.54098 | Y26: =G26+M26+S26 -> 899.40813
A27: 4T11 | B27: 75.740482 | C27: 235.31659 | D27: 49.00871 | E27: 16.450165 | F27: 49.814043 | G27: =SUM(B27:F27) -> 426.32999 | H27: 124.77251 | I27: 0.66807204 | J27: 52.944716 | K27: 23.711775 | L27: 68.517456 | M27: =SUM(H27:L27) -> 270.61453 | N27: 103.3497 | O27: 0.99800504 | P27: 11.390358 | Q27: 24.272951 | R27: 87.734761 | S27: =SUM(N27:R27) -> 227.74577 | T27: =B27+H27+N27 -> 303.86269 | U27: =C27+I27+O27 -> 236.98267 | V27: =D27+J27+P27 -> 113.34378 | W27: =E27+K27+Q27 -> 64.43489 | X27: =F27+L27+R27 -> 206.06626 | Y27: =G27+M27+S27 -> 924.6903
A28: 1T12 | B28: 74.168553 | C28: 240.62673 | D28: 48.854312 | E28: 14.774648 | F28: 58.875756 | G28: =SUM(B28:F28) -> 437.3 | H28: 126.47014 | I28: 0.75889645 | J28: 52.130873 | K28: 20.12079 | L28: 59.706438 | M28: =SUM(H28:L28) -> 259.18714 | N28: 104.55065 | O28: 1.0395727 | P28: 11.571438 | Q28: 27.497935 | R28: 88.186315 | S28: =SUM(N28:R28) -> 232.84591 | T28: =B28+H28+N28 -> 305.18934 | U28: =C28+I28+O28 -> 242.4252 | V28: =D28+J28+P28 -> 112.55662 | W28: =E28+K28+Q28 -> 62.393374 | X28: =F28+L28+R28 -> 206.76851 | Y28: =G28+M28+S28 -> 929.33304
A29: 2T12 | B29: 77.695502 | C29: 250.24549 | D29: 49.237371 | E29: 15.176415 | F29: 51.119312 | G29: =SUM(B29:F29) -> 443.47409 | H29: 128.33703 | I29: 0.83168861 | J29: 55.03952 | K29: 18.910338 | L29: 61.091955 | M29: =SUM(H29:L29) -> 264.21053 | N29: 107.80453 | O29: 1.0477819 | P29: 11.996884 | Q29: 28.564679 | R29: 89.898523 | S29: =SUM(N29:R29) -> 239.3124 | T29: =B29+H29+N29 -> 313.83707 | U29: =C29+I29+O29 -> 252.12496 | V29: =D29+J29+P29 -> 116.27378 | W29: =E29+K29+Q29 -> 62.651432 | X29: =F29+L29+R29 -> 202.10979 | Y29: =G29+M29+S29 -> 946.99702
A30: 3T12 | B30: 74.894263 | C30: 249.7548 | D30: 48.15365 | E30: 15.792194 | F30: 47.598371 | G30: =SUM(B30:F30) -> 436.19328 | H30: 130.1206 | I30: 0.87511273 | J30: 56.952623 | K30: 19.90254 | L30: 62.633448 | M30: =SUM(H30:L30) -> 270.48432 | N30: 107.14167 | O30: 1.0435535 | P30: 12.049784 | Q30: 27.937565 | R30: 89.932409 | S30: =SUM(N30:R30) -> 238.10498 | T30: =B30+H30+N30 -> 312.15654 | U30: =C30+I30+O30 -> 251.67346 | V30: =D30+J30+P30 -> 117.15606 | W30: =E30+K30+Q30 -> 63.6323 | X30: =F30+L30+R30 -> 200.16423 | Y30: =G30+M30+S30 -> 944.78259
A31: 4T12 | B31: 75.479921 | C31: 251.46619 | D31: 47.882403 | E31: 15.014763 | F31: 41.520983 | G31: =SUM(B31:F31) -> 431.36426 | H31: 131.18996 | I31: 0.97567595 | J31: 55.638563 | K31: 22.471184 | L31: 68.264871 | M31: =SUM(H31:L31) -> 278.54025 | N31: 108.62473 | O31: 1.0451912 | P31: 12.241435 | Q31: 24.620245 | R31: 86.77748 | S31: =SUM(N31:R31) -> 233.30908 | T31: =B31+H31+N31 -> 315.29461 | U31: =C31+I31+O31 -> 253.48706 | V31: =D31+J31+P31 -> 115.7624 | W31: =E31+K31+Q31 -> 62.106192 | X31: =F31+L31+R31 -> 196.56333 | Y31: =G31+M31+S31 -> 943.21359
... A85: 2T26 | B85: 71.283397 | C85: 383.68889 | D85: 46.200558 | E85: 9.9671431 | F85: 52.973641 | G85: =SUM(B85:F85) -> 564.11363 | H85: 150.09457 | I85: 2.3920451 | J85: 79.163252 | K85: 31.756974 | L85: 95.887301 | M85: =SUM(H85:L85) -> 359.29414 | N85: 156.66399 | O85: 1.5457099 | P85: 26.28348 | Q85: 27.733464 | R85: 147.40504 | S85: =SUM(N85:R85) -> 359.63169 | T85: =B85+H85+N85 -> 378.04195 | U85: =C85+I85+O85 -> 387.62664 | V85: =D85+J85+P85 -> 151.64729 | W85: =E85+K85+Q85 -> 69.457581 | X85: =F85+L85+R85 -> 296.26598 | Y85: =G85+M85+S85 -> 1283.0394

Sheet Valores_%_PIB_no_trimestre
A1: Gastos primários do Governo Geral, em % do PIB no trimestre
B2: Governo Central Orçamentário | H2: Governos Estaduais | N2: Governos Municipais | T2: Governo Geral
B3: Remuneração de empregados (incluindo contribuições sociais efetivas) | C3: Benefícios previdenciários RGPS/INSS e assistenciais | D3: RPPS | E3: Investimentos brutos | F3: Outros (uso de bens e serviços, subsídios e outros) | G3: TOTAL | H3: Remuneração de empregados (incluindo contribuições sociais efetivas) | I3: Benefícios previdenciários RGPS/INSS e assistenciais | J3: RPPS | K3: Investimentos brutos | L3: Outros (uso de bens e serviços, subsídios e outros) | M3: TOTAL | N3: Remuneração de empregados (incluindo contribuições sociais efetivas) | O3: Benefícios previdenciários RGPS/INSS e assistenciais | P3: RPPS | Q3: Investimentos brutos | R3: Outros (uso de bens e serviços, subsídios e outros) | S3: TOTAL | T3: Remuneração de empregados (incluindo contribuições sociais efetivas) | U3: Benefícios previdenciários RGPS/INSS e assistenciais | V3: RPPS | W3: Investimentos brutos | X3: Outros (uso de bens e serviços, subsídios e outros) | Y3: TOTAL
A4: 1T06 | B4: =Valores_correntes!B4/AUX_PIB!$C4*100 -> 2.9409681 | C4: =Valores_correntes!C4/AUX_PIB!$C4*100 -> 7.8986169 | D4: =Valores_correntes!D4/AUX_PIB!$C4*100 -> 1.8275953 | E4: =Valores_correntes!E4/AUX_PIB!$C4*100 -> 0.4938537 | F4: =Valores_correntes!F4/AUX_PIB!$C4*100 -> 0.97040842 | G4: =Valores_correntes!G4/AUX_PIB!$C4*100 -> 14.131442 | H4: =Valores_correntes!H4/AUX_PIB!$C4*100 -> 4.6319165 | I4: =Valores_correntes!I4/AUX_PIB!$C4*100 -> 0.02548147 | ... M4: =Valores_correntes!M4/AUX_PIB!$C4*100 -> 9.2733474
A5: 2T06 | B5: =Valores_correntes!B5/AUX_PIB!$C5*100 -> 2.5342298 | C5: =Valores_correntes!C5/AUX_PIB!$C5*100 -> 7.8083778 | D5: =Valores_correntes!D5/AUX_PIB!$C5*100 -> 2.0464856 | E5: =Valores_correntes!E5/AUX_PIB!$C5*100 -> 0.30228071 | F5: =Valores_correntes!F5/AUX_PIB!$C5*100 -> 1.1877385 | G5: =Valores_correntes!G5/AUX_PIB!$C5*100 -> 13.879112 | H5: =Valores_correntes!H5/AUX_PIB!$C5*100 -> 4.3171569 | I5: =Valores_correntes!I5/AUX_PIB!$C5*100 -> 0.026704635 | ... M5: =Valores_correntes!M5/AUX_PIB!$C5*100 -> 9.4819356
A6: 3T06 | B6: =Valores_correntes!B6/AUX_PIB!$C6*100 -> 2.4708661 | C6: =Valores_correntes!C6/AUX_PIB!$C6*100 -> 8.8661533 | D6: =Valores_correntes!D6/AUX_PIB!$C6*100 -> 1.8173788 | E6: =Valores_correntes!E6/AUX_PIB!$C6*100 -> 0.31354999 | F6: =Valores_correntes!F6/AUX_PIB!$C6*100 -> 1.3808407 | G6: =Valores_correntes!G6/AUX_PIB!$C6*100 -> 14.848789 | H6: =Valores_correntes!H6/AUX_PIB!$C6*100 -> 4.1492072 | I6: =Valores_correntes!I6/AUX_PIB!$C6*100 -> 0.0293769 | ... M6: =Valores_correntes!M6/AUX_PIB!$C6*100 -> 9.2545423
A7: 4T06 | B7: =Valores_correntes!B7/AUX_PIB!$C7*100 -> 3.2757979 | C7: =Valores_correntes!C7/AUX_PIB!$C7*100 -> 8.6060468 | D7: =Valores_correntes!D7/AUX_PIB!$C7*100 -> 2.1044949 | E7: =Valores_correntes!E7/AUX_PIB!$C7*100 -> 1.5035143 | F7: =Valores_correntes!F7/AUX_PIB!$C7*100 -> 3.199957 | G7: =Valores_correntes!G7/AUX_PIB!$C7*100 -> 18.689811 | H7: =Valores_correntes!H7/AUX_PIB!$C7*100 -> 4.433015 | I7: =Valores_correntes!I7/AUX_PIB!$C7*100 -> 0.03158061 | ... M7: =Valores_correntes!M7/AUX_PIB!$C7*100 -> 9.8949384
A8: 1T07 | B8: =Valores_correntes!B8/AUX_PIB!$C8*100 -> 2.8604917 | C8: =Valores_correntes!C8/AUX_PIB!$C8*100 -> 8.0452812 | D8: =Valores_correntes!D8/AUX_PIB!$C8*100 -> 1.8579913 | E8: =Valores_correntes!E8/AUX_PIB!$C8*100 -> 0.36612114 | F8: =Valores_correntes!F8/AUX_PIB!$C8*100 -> 0.95338418 | G8: =Valores_correntes!G8/AUX_PIB!$C8*100 -> 14.083269 | H8: =Valores_correntes!H8/AUX_PIB!$C8*100 -> 4.5009766 | I8: =Valores_correntes!I8/AUX_PIB!$C8*100 -> 0.019131957 | ... M8: =Valores_correntes!M8/AUX_PIB!$C8*100 -> 8.7089687
A9: 2T07 | B9: =Valores_correntes!B9/AUX_PIB!$C9*100 -> 2.5731331 | C9: =Valores_correntes!C9/AUX_PIB!$C9*100 -> 7.5390471 | D9: =Valores_correntes!D9/AUX_PIB!$C9*100 -> 1.9938916 | E9: =Valores_correntes!E9/AUX_PIB!$C9*100 -> 0.51543422 | F9: =Valores_correntes!F9/AUX_PIB!$C9*100 -> 1.3963561 | G9: =Valores_correntes!G9/AUX_PIB!$C9*100 -> 14.017862 | H9: =Valores_correntes!H9/AUX_PIB!$C9*100 -> 4.1471454 | I9: =Valores_correntes!I9/AUX_PIB!$C9*100 -> 0.019821064 | ... M9: =Valores_correntes!M9/AUX_PIB!$C9*100 -> 8.7414384
A10: 3T07 | B10: =Valores_correntes!B10/AUX_PIB!$C10*100 -> 2.4252415 | C10: =Valores_correntes!C10/AUX_PIB!$C10*100 -> 8.9195707 | D10: =Valores_correntes!D10/AUX_PIB!$C10*100 -> 1.7145573 | E10: =Valores_correntes!E10/AUX_PIB!$C10*100 -> 0.39201365 | F10: =Valores_correntes!F10/AUX_PIB!$C10*100 -> 1.293074 | G10: =Valores_correntes!G10/AUX_PIB!$C10*100 -> 14.744457 | H10: =Valores_correntes!H10/AUX_PIB!$C10*100 -> 4.1018698 | I10: =Valores_correntes!I10/AUX_PIB!$C10*100 -> 0.022439418 | ... M10: =Valores_correntes!M10/AUX_PIB!$C10*100 -> 8.7673537
A11: 4T07 | B11: =Valores_correntes!B11/AUX_PIB!$C11*100 -> 3.0433685 | C11: =Valores_correntes!C11/AUX_PIB!$C11*100 -> 8.3215618 | D11: =Valores_correntes!D11/AUX_PIB!$C11*100 -> 1.9661128 | E11: =Valores_correntes!E11/AUX_PIB!$C11*100 -> 0.7250165 | F11: =Valores_correntes!F11/AUX_PIB!$C11*100 -> 2.1115571 | G11: =Valores_correntes!G11/AUX_PIB!$C11*100 -> 16.167617 | H11: =Valores_correntes!H11/AUX_PIB!$C11*100 -> 4.4277277 | I11: =Valores_correntes!I11/AUX_PIB!$C11*100 -> 0.024371996 | ... M11: =Valores_correntes!M11/AUX_PIB!$C11*100 -> 9.4628086
A12: 1T08 | B12: =Valores_correntes!B12/AUX_PIB!$C12*100 -> 2.7828376 | C12: =Valores_correntes!C12/AUX_PIB!$C12*100 -> 7.7559783 | D12: =Valores_correntes!D12/AUX_PIB!$C12*100 -> 1.6854306 | E12: =Valores_correntes!E12/AUX_PIB!$C12*100 -> 0.37493885 | F12: =Valores_correntes!F12/AUX_PIB!$C12*100 -> 0.82048888 | G12: =Valores_correntes!G12/AUX_PIB!$C12*100 -> 13.419674 | H12: =Valores_correntes!H12/AUX_PIB!$C12*100 -> 4.6957273 | I12: =Valores_correntes!I12/AUX_PIB!$C12*100 -> 0.015807682 | ... M12: =Valores_correntes!M12/AUX_PIB!$C12*100 -> 9.1499162
A13: 2T08 | B13: =Valores_correntes!B13/AUX_PIB!$C13*100 -> 2.5241754 | C13: =Valores_correntes!C13/AUX_PIB!$C13*100 -> 7.2423579 | D13: =Valores_correntes!D13/AUX_PIB!$C13*100 -> 1.949436 | E13: =Valores_correntes!E13/AUX_PIB!$C13*100 -> 0.33403928 | F13: =Valores_correntes!F13/AUX_PIB!$C13*100 -> 1.1946645 | G13: =Valores_correntes!G13/AUX_PIB!$C13*100 -> 13.244673 | H13: =Valores_correntes!H13/AUX_PIB!$C13*100 -> 4.2522111 | I13: =Valores_correntes!I13/AUX_PIB!$C13*100 -> 0.016095527 | ... M13: =Valores_correntes!M13/AUX_PIB!$C13*100 -> 9.1024045
A14: 3T08 | B14: =Valores_correntes!B14/AUX_PIB!$C14*100 -> 2.3750478 | C14: =Valores_correntes!C14/AUX_PIB!$C14*100 -> 8.4820953 | D14: =Valores_correntes!D14/AUX_PIB!$C14*100 -> 1.665393 | E14: =Valores_correntes!E14/AUX_PIB!$C14*100 -> 0.5555255 | F14: =Valores_correntes!F14/AUX_PIB!$C14*100 -> 1.3755961 | G14: =Valores_correntes!G14/AUX_PIB!$C14*100 -> 14.453658 | H14: =Valores_correntes!H14/AUX_PIB!$C14*100 -> 4.1086814 | I14: =Valores_correntes!I14/AUX_PIB!$C14*100 -> 0.017801019 | ... M14: =Valores_correntes!M14/AUX_PIB!$C14*100 -> 8.9352361
A15: 4T08 | B15: =Valores_correntes!B15/AUX_PIB!$C15*100 -> 3.3476531 | C15: =Valores_correntes!C15/AUX_PIB!$C15*100 -> 8.3485526 | D15: =Valores_correntes!D15/AUX_PIB!$C15*100 -> 2.0880054 | E15: =Valores_correntes!E15/AUX_PIB!$C15*100 -> 0.62959433 | F15: =Valores_correntes!F15/AUX_PIB!$C15*100 -> 1.8598209 | G15: =Valores_correntes!G15/AUX_PIB!$C15*100 -> 16.273626 | H15: =Valores_correntes!H15/AUX_PIB!$C15*100 -> 4.6389739 | I15: =Valores_correntes!I15/AUX_PIB!$C15*100 -> 0.020222964 | ... M15: =Valores_correntes!M15/AUX_PIB!$C15*100 -> 10.10574
... A19: 4T09 | B19: =Valores_correntes!B19/AUX_PIB!$C19*100 -> 3.1296973 | C19: =Valores_correntes!C19/AUX_PIB!$C19*100 -> 8.2014092 | D19: =Valores_correntes!D19/AUX_PIB!$C19*100 -> 2.0536506 | E19: =Valores_correntes!E19/AUX_PIB!$C19*100 -> 0.91455062 | F19: =Valores_correntes!F19/AUX_PIB!$C19*100 -> 1.7513048 | G19: =Valores_correntes!G19/AUX_PIB!$C19*100 -> 16.050613 | H19: =Valores_correntes!H19/AUX_PIB!$C19*100 -> 4.4546582 | I19: =Valores_correntes!I19/AUX_PIB!$C19*100 -> 0.022133386 | ... M19: =Valores_correntes!M19/AUX_PIB!$C19*100 -> 9.8842715
A20: 1T10 | B20: =Valores_correntes!B20/AUX_PIB!$C20*100 -> 3.0521205 | C20: =Valores_correntes!C20/AUX_PIB!$C20*100 -> 8.4561507 | D20: =Valores_correntes!D20/AUX_PIB!$C20*100 -> 1.7805143 | E20: =Valores_correntes!E20/AUX_PIB!$C20*100 -> 0.59694287 | F20: =Valores_correntes!F20/AUX_PIB!$C20*100 -> 1.189196 | G20: =Valores_correntes!G20/AUX_PIB!$C20*100 -> 15.074924 | H20: =Valores_correntes!H20/AUX_PIB!$C20*100 -> 4.6000051 | I20: =Valores_correntes!I20/AUX_PIB!$C20*100 -> 0.01701009 | ... Y20: =Valores_correntes!Y20/AUX_PIB!$C20*100 -> 31.482883
A21: 2T10 | B21: =Valores_correntes!B21/AUX_PIB!$C21*100 -> 2.7013422 | C21: =Valores_correntes!C21/AUX_PIB!$C21*100 -> 7.8477929 | D21: =Valores_correntes!D21/AUX_PIB!$C21*100 -> 1.9362398 | E21: =Valores_correntes!E21/AUX_PIB!$C21*100 -> 0.71590166 | F21: =Valores_correntes!F21/AUX_PIB!$C21*100 -> 1.3214652 | G21: =Valores_correntes!G21/AUX_PIB!$C21*100 -> 14.522742 | H21: =Valores_correntes!H21/AUX_PIB!$C21*100 -> 4.2913394 | I21: =Valores_correntes!I21/AUX_PIB!$C21*100 -> 0.021203926 | ... Y21: =Valores_correntes!Y21/AUX_PIB!$C21*100 -> 31.664086
A22: 3T10 | B22: =Valores_correntes!B22/AUX_PIB!$C22*100 -> 2.569236 | C22: =Valores_correntes!C22/AUX_PIB!$C22*100 -> 8.9259486 | D22: =Valores_correntes!D22/AUX_PIB!$C22*100 -> 1.7251714 | E22: =Valores_correntes!E22/AUX_PIB!$C22*100 -> 0.74181085 | F22: =Valores_correntes!F22/AUX_PIB!$C22*100 -> 1.2707042 | G22: =Valores_correntes!G22/AUX_PIB!$C22*100 -> 15.232871 | H22: =Valores_correntes!H22/AUX_PIB!$C22*100 -> 3.9091187 | I22: =Valores_correntes!I22/AUX_PIB!$C22*100 -> 0.026193652 | ... Y22: =Valores_correntes!Y22/AUX_PIB!$C22*100 -> 31.747063
A23: 4T10 | B23: =Valores_correntes!B23/AUX_PIB!$C23*100 -> 3.1964222 | C23: =Valores_correntes!C23/AUX_PIB!$C23*100 -> 7.8213626 | D23: =Valores_correntes!D23/AUX_PIB!$C23*100 -> 1.9454002 | E23: =Valores_correntes!E23/AUX_PIB!$C23*100 -> 1.0039472 | F23: =Valores_correntes!F23/AUX_PIB!$C23*100 -> 1.6496749 | G23: =Valores_correntes!G23/AUX_PIB!$C23*100 -> 15.616807 | H23: =Valores_correntes!H23/AUX_PIB!$C23*100 -> 4.5884748 | I23: =Valores_correntes!I23/AUX_PIB!$C23*100 -> 0.02487759 | ... Y23: =Valores_correntes!Y23/AUX_PIB!$C23*100 -> 34.356953
A24: 1T11 | B24: =Valores_correntes!B24/AUX_PIB!$C24*100 -> 2.7013619 | C24: =Valores_correntes!C24/AUX_PIB!$C24*100 -> 8.0416397 | D24: =Valores_correntes!D24/AUX_PIB!$C24*100 -> 1.7488516 | E24: =Valores_correntes!E24/AUX_PIB!$C24*100 -> 0.46477631 | F24: =Valores_correntes!F24/AUX_PIB!$C24*100 -> 1.4119198 | G24: =Valores_correntes!G24/AUX_PIB!$C24*100 -> 14.368549 | H24: =Valores_correntes!H24/AUX_PIB!$C24*100 -> 4.5564082 | I24: =Valores_correntes!I24/AUX_PIB!$C24*100 -> 0.018618873 | ... Y24: =Valores_correntes!Y24/AUX_PIB!$C24*100 -> 29.732181
A25: 2T11 | B25: =Valores_correntes!B25/AUX_PIB!$C25*100 -> 2.9261238 | C25: =Valores_correntes!C25/AUX_PIB!$C25*100 -> 7.8612338 | D25: =Valores_correntes!D25/AUX_PIB!$C25*100 -> 1.8522134 | E25: =Valores_correntes!E25/AUX_PIB!$C25*100 -> 0.53354538 | F25: =Valores_correntes!F25/AUX_PIB!$C25*100 -> 1.5942854 | G25: =Valores_correntes!G25/AUX_PIB!$C25*100 -> 14.767402 | H25: =Valores_correntes!H25/AUX_PIB!$C25*100 -> 4.1804124 | I25: =Valores_correntes!I25/AUX_PIB!$C25*100 -> 0.019090094 | ... Y25: =Valores_correntes!Y25/AUX_PIB!$C25*100 -> 31.168613
A26: 3T11 | B26: =Valores_correntes!B26/AUX_PIB!$C26*100 -> 2.4313425 | C26: =Valores_correntes!C26/AUX_PIB!$C26*100 -> 8.9954075 | D26: =Valores_correntes!D26/AUX_PIB!$C26*100 -> 1.6179277 | E26: =Valores_correntes!E26/AUX_PIB!$C26*100 -> 0.56773165 | F26: =Valores_correntes!F26/AUX_PIB!$C26*100 -> 1.3621907 | G26: =Valores_correntes!G26/AUX_PIB!$C26*100 -> 14.9746 | H26: =Valores_correntes!H26/AUX_PIB!$C26*100 -> 4.1647917 | I26: =Valores_correntes!I26/AUX_PIB!$C26*100 -> 0.023212388 | ... Y26: =Valores_correntes!Y26/AUX_PIB!$C26*100 -> 31.386276
A27: 4T11 | B27: =Valores_correntes!B27/AUX_PIB!$C27*100 -> 2.9445637 | C27: =Valores_correntes!C27/AUX_PIB!$C27*100 -> 7.8829873 | D27: =Valores_correntes!D27/AUX_PIB!$C27*100 -> 1.811729 | E27: =Valores_correntes!E27/AUX_PIB!$C27*100 -> 0.74599018 | F27: =Valores_correntes!F27/AUX_PIB!$C27*100 -> 1.9987609 | G27: =Valores_correntes!G27/AUX_PIB!$C27*100 -> 15.384031 | H27: =Valores_correntes!H27/AUX_PIB!$C27*100 -> 4.4737333 | I27: =Valores_correntes!I27/AUX_PIB!$C27*100 -> 0.026025509 | ... Y27: =Valores_correntes!Y27/AUX_PIB!$C27*100 -> 34.465199
A28: 1T12 | B28: =Valores_correntes!B28/AUX_PIB!$C28*100 -> 2.5252511 | C28: =Valores_correntes!C28/AUX_PIB!$C28*100 -> 8.368676 | D28: =Valores_correntes!D28/AUX_PIB!$C28*100 -> 1.6158908 | E28: =Valores_correntes!E28/AUX_PIB!$C28*100 -> 0.39396933 | F28: =Valores_correntes!F28/AUX_PIB!$C28*100 -> 1.9559775 | G28: =Valores_correntes!G28/AUX_PIB!$C28*100 -> 14.859765 | H28: =Valores_correntes!H28/AUX_PIB!$C28*100 -> 4.6033939 | I28: =Valores_correntes!I28/AUX_PIB!$C28*100 -> 0.023332463 | ... Y28: =Valores_correntes!Y28/AUX_PIB!$C28*100 -> 30.770135
A29: 2T12 | B29: =Valores_correntes!B29/AUX_PIB!$C29*100 -> 2.7076153 | C29: =Valores_correntes!C29/AUX_PIB!$C29*100 -> 8.2328528 | D29: =Valores_correntes!D29/AUX_PIB!$C29*100 -> 1.8103087 | E29: =Valores_correntes!E29/AUX_PIB!$C29*100 -> 0.48745512 | F29: =Valores_correntes!F29/AUX_PIB!$C29*100 -> 1.6707976 | G29: =Valores_correntes!G29/AUX_PIB!$C29*100 -> 14.90903 | H29: =Valores_correntes!H29/AUX_PIB!$C29*100 -> 4.2744628 | I29: =Valores_correntes!I29/AUX_PIB!$C29*100 -> 0.027722329 | ... Y29: =Valores_correntes!Y29/AUX_PIB!$C29*100 -> 32.121621
A30: 3T12 | B30: =Valores_correntes!B30/AUX_PIB!$C30*100 -> 2.2949614 | C30: =Valores_correntes!C30/AUX_PIB!$C30*100 -> 9.2046924 | D30: =Valores_correntes!D30/AUX_PIB!$C30*100 -> 1.5156449 | E30: =Valores_correntes!E30/AUX_PIB!$C30*100 -> 0.54267171 | F30: =Valores_correntes!F30/AUX_PIB!$C30*100 -> 1.5470621 | G30: =Valores_correntes!G30/AUX_PIB!$C30*100 -> 15.105033 | H30: =Valores_correntes!H30/AUX_PIB!$C30*100 -> 4.2714883 | I30: =Valores_correntes!I30/AUX_PIB!$C30*100 -> 0.030376722 | ... Y30: =Valores_correntes!Y30/AUX_PIB!$C30*100 -> 32.115168
A31: 4T12 | B31: =Valores_correntes!B31/AUX_PIB!$C31*100 -> 2.8627335 | C31: =Valores_correntes!C31/AUX_PIB!$C31*100 -> 8.2609093 | D31: =Valores_correntes!D31/AUX_PIB!$C31*100 -> 1.7246381 | E31: =Valores_correntes!E31/AUX_PIB!$C31*100 -> 0.65192496 | F31: =Valores_correntes!F31/AUX_PIB!$C31*100 -> 1.6091688 | G31: =Valores_correntes!G31/AUX_PIB!$C31*100 -> 15.109375 | H31: =Valores_correntes!H31/AUX_PIB!$C31*100 -> 4.6075548 | I31: =Valores_correntes!I31/AUX_PIB!$C31*100 -> 0.03683635 | ... Y31: =Valores_correntes!Y31/AUX_PIB!$C31*100 -> 34.278834
... A85: 2T26 | B85: =Valores_correntes!B85/AUX_PIB!$C85*100 -> 2.0326539 | C85: =Valores_correntes!C85/AUX_PIB!$C85*100 -> 12.834194 | D85: =Valores_correntes!D85/AUX_PIB!$C85*100 -> 1.4187434 | E85: =Valores_correntes!E85/AUX_PIB!$C85*100 -> 0.27441543 | F85: =Valores_correntes!F85/AUX_PIB!$C85*100 -> 1.3575908 | G85: =Valores_correntes!G85/AUX_PIB!$C85*100 -> 17.917598 | H85: =Valores_correntes!H85/AUX_PIB!$C85*100 -> 4.2262393 | I85: =Valores_correntes!I85/AUX_PIB!$C85*100 -> 0.071173302 | ... Y85: =Valores_correntes!Y85/AUX_PIB!$C85*100 -> 38.433882

Sheet Valores_%_PIB_em_4_trimestres
A1: Gastos primários do Governo Geral, acumulado em 4 trimestres, em % do PIB
B2: Governo Central Orçamentário | H2: Governos Estaduais | N2: Governos Municipais | T2: Governo Geral
B3: Remuneração de empregados (incluindo contribuições sociais efetivas) | C3: Benefícios previdenciários RGPS/INSS e assistenciais | D3: RPPS | E3: Investimentos brutos | F3: Outros (uso de bens e serviços, subsídios e outros) | G3: TOTAL | H3: Remuneração de empregados (incluindo contribuições sociais efetivas) | I3: Benefícios previdenciários RGPS/INSS e assistenciais | J3: RPPS | K3: Investimentos brutos | L3: Outros (uso de bens e serviços, subsídios e outros) | M3: TOTAL | N3: Remuneração de empregados (incluindo contribuições sociais efetivas) | O3: Benefícios previdenciários RGPS/INSS e assistenciais | P3: RPPS | Q3: Investimentos brutos | R3: Outros (uso de bens e serviços, subsídios e outros) | S3: TOTAL | T3: Remuneração de empregados (incluindo contribuições sociais efetivas) | U3: Benefícios previdenciários RGPS/INSS e assistenciais | V3: RPPS | W3: Investimentos brutos | X3: Outros (uso de bens e serviços, subsídios e outros) | Y3: TOTAL
A4: 1T06
A5: 2T06
A6: 3T06
A7: 4T06 | B7: =SUM(Valores_correntes!B4:B7)/SUM(AUX_PIB!$C4:$C7)*100 -> 2.8132496 | C7: =SUM(Valores_correntes!C4:C7)/SUM(AUX_PIB!$C4:$C7)*100 -> 8.3173393 | D7: =SUM(Valores_correntes!D4:D7)/SUM(AUX_PIB!$C4:$C7)*100 -> 1.953161 | E7: =SUM(Valores_correntes!E4:E7)/SUM(AUX_PIB!$C4:$C7)*100 -> 0.67596777 | F7: =SUM(Valores_correntes!F4:F7)/SUM(AUX_PIB!$C4:$C7)*100 -> 1.7345709 | G7: =SUM(Valores_correntes!G4:G7)/SUM(AUX_PIB!$C4:$C7)*100 -> 15.494289 | H7: =SUM(Valores_correntes!H4:H7)/SUM(AUX_PIB!$C4:$C7)*100 -> 4.3780101 | I7: =SUM(Valores_correntes!I4:I7)/SUM(AUX_PIB!$C4:$C7)*100 -> 0.028434732 | ... M7: =SUM(Valores_correntes!M4:M7)/SUM(AUX_PIB!$C4:$C7)*100 -> 9.4879763
A8: 1T07 | B8: =SUM(Valores_correntes!B5:B8)/SUM(AUX_PIB!$C5:$C8)*100 -> 2.796777 | C8: =SUM(Valores_correntes!C5:C8)/SUM(AUX_PIB!$C5:$C8)*100 -> 8.34159 | D8: =SUM(Valores_correntes!D5:D8)/SUM(AUX_PIB!$C5:$C8)*100 -> 1.9569835 | E8: =SUM(Valores_correntes!E5:E8)/SUM(AUX_PIB!$C5:$C8)*100 -> 0.63788213 | F8: =SUM(Valores_correntes!F5:F8)/SUM(AUX_PIB!$C5:$C8)*100 -> 1.7065381 | G8: =SUM(Valores_correntes!G5:G8)/SUM(AUX_PIB!$C5:$C8)*100 -> 15.439771 | H8: =SUM(Valores_correntes!H5:H8)/SUM(AUX_PIB!$C5:$C8)*100 -> 4.3526386 | I8: =SUM(Valores_correntes!I5:I8)/SUM(AUX_PIB!$C5:$C8)*100 -> 0.026730769 | ... M8: =SUM(Valores_correntes!M5:M8)/SUM(AUX_PIB!$C5:$C8)*100 -> 9.3380042
A9: 2T07 | B9: =SUM(Valores_correntes!B6:B9)/SUM(AUX_PIB!$C6:$C9)*100 -> 2.7978675 | C9: =SUM(Valores_correntes!C6:C9)/SUM(AUX_PIB!$C6:$C9)*100 -> 8.2530901 | D9: =SUM(Valores_correntes!D6:D9)/SUM(AUX_PIB!$C6:$C9)*100 -> 1.9463689 | E9: =SUM(Valores_correntes!E6:E9)/SUM(AUX_PIB!$C6:$C9)*100 -> 0.6818354 | F9: =SUM(Valores_correntes!F6:F9)/SUM(AUX_PIB!$C6:$C9)*100 -> 1.7430018 | G9: =SUM(Valores_correntes!G6:G9)/SUM(AUX_PIB!$C6:$C9)*100 -> 15.422164 | H9: =SUM(Valores_correntes!H6:H9)/SUM(AUX_PIB!$C6:$C9)*100 -> 4.3071424 | I9: =SUM(Valores_correntes!I6:I9)/SUM(AUX_PIB!$C6:$C9)*100 -> 0.024937249 | ... M9: =SUM(Valores_correntes!M6:M9)/SUM(AUX_PIB!$C6:$C9)*100 -> 9.1501201
A10: 3T07 | B10: =SUM(Valores_correntes!B7:B10)/SUM(AUX_PIB!$C7:$C10)*100 -> 2.7768193 | C10: =SUM(Valores_correntes!C7:C10)/SUM(AUX_PIB!$C7:$C10)*100 -> 8.2841635 | D10: =SUM(Valores_correntes!D7:D10)/SUM(AUX_PIB!$C7:$C10)*100 -> 1.9159147 | E10: =SUM(Valores_correntes!E7:E10)/SUM(AUX_PIB!$C7:$C10)*100 -> 0.69203904 | F10: =SUM(Valores_correntes!F7:F10)/SUM(AUX_PIB!$C7:$C10)*100 -> 1.7099663 | G10: =SUM(Valores_correntes!G7:G10)/SUM(AUX_PIB!$C7:$C10)*100 -> 15.378903 | H10: =SUM(Valores_correntes!H7:H10)/SUM(AUX_PIB!$C7:$C10)*100 -> 4.2903691 | I10: =SUM(Valores_correntes!I7:I10)/SUM(AUX_PIB!$C7:$C10)*100 -> 0.023249566 | ... M10: =SUM(Valores_correntes!M7:M10)/SUM(AUX_PIB!$C7:$C10)*100 -> 9.0258098
A11: 4T07 | B11: =SUM(Valores_correntes!B8:B11)/SUM(AUX_PIB!$C8:$C11)*100 -> 2.7277788 | C11: =SUM(Valores_correntes!C8:C11)/SUM(AUX_PIB!$C8:$C11)*100 -> 8.2166024 | D11: =SUM(Valores_correntes!D8:D11)/SUM(AUX_PIB!$C8:$C11)*100 -> 1.8838862 | E11: =SUM(Valores_correntes!E8:E11)/SUM(AUX_PIB!$C8:$C11)*100 -> 0.505347 | F11: =SUM(Valores_correntes!F8:F11)/SUM(AUX_PIB!$C8:$C11)*100 -> 1.4582327 | G11: =SUM(Valores_correntes!G8:G11)/SUM(AUX_PIB!$C8:$C11)*100 -> 14.791847 | H11: =SUM(Valores_correntes!H8:H11)/SUM(AUX_PIB!$C8:$C11)*100 -> 4.2926796 | I11: =SUM(Valores_correntes!I8:I11)/SUM(AUX_PIB!$C8:$C11)*100 -> 0.021542185 | ... M11: =SUM(Valores_correntes!M8:M11)/SUM(AUX_PIB!$C8:$C11)*100 -> 8.9331062
A12: 1T08 | B12: =SUM(Valores_correntes!B9:B12)/SUM(AUX_PIB!$C9:$C12)*100 -> 2.7118578 | C12: =SUM(Valores_correntes!C9:C12)/SUM(AUX_PIB!$C9:$C12)*100 -> 8.1381227 | D12: =SUM(Valores_correntes!D9:D12)/SUM(AUX_PIB!$C9:$C12)*100 -> 1.8392716 | E12: =SUM(Valores_correntes!E9:E12)/SUM(AUX_PIB!$C9:$C12)*100 -> 0.50358064 | F12: =SUM(Valores_correntes!F9:F12)/SUM(AUX_PIB!$C9:$C12)*100 -> 1.4099139 | G12: =SUM(Valores_correntes!G9:G12)/SUM(AUX_PIB!$C9:$C12)*100 -> 14.602747 | H12: =SUM(Valores_correntes!H9:H12)/SUM(AUX_PIB!$C9:$C12)*100 -> 4.3481864 | I12: =SUM(Valores_correntes!I9:I12)/SUM(AUX_PIB!$C9:$C12)*100 -> 0.020627688 | ... M12: =SUM(Valores_correntes!M9:M12)/SUM(AUX_PIB!$C9:$C12)*100 -> 9.0387532
A13: 2T08 | B13: =SUM(Valores_correntes!B10:B13)/SUM(AUX_PIB!$C10:$C13)*100 -> 2.6941357 | C13: =SUM(Valores_correntes!C10:C13)/SUM(AUX_PIB!$C10:$C13)*100 -> 8.0389627 | D13: =SUM(Valores_correntes!D10:D13)/SUM(AUX_PIB!$C10:$C13)*100 -> 1.8327461 | E13: =SUM(Valores_correntes!E10:E13)/SUM(AUX_PIB!$C10:$C13)*100 -> 0.45584712 | F13: =SUM(Valores_correntes!F10:F13)/SUM(AUX_PIB!$C10:$C13)*100 -> 1.3559278 | G13: =SUM(Valores_correntes!G10:G13)/SUM(AUX_PIB!$C10:$C13)*100 -> 14.377619 | H13: =SUM(Valores_correntes!H10:H13)/SUM(AUX_PIB!$C10:$C13)*100 -> 4.3692135 | I13: =SUM(Valores_correntes!I10:I13)/SUM(AUX_PIB!$C10:$C13)*100 -> 0.019611521 | ... M13: =SUM(Valores_correntes!M10:M13)/SUM(AUX_PIB!$C10:$C13)*100 -> 9.1244073
